Workbook
Name Алтайский_край: 'регионы и районы'!$K$477:$K$545
Name Амурская_область: 'регионы и районы'!$K$738:$K$766
Name Архангельская_область: 'регионы и районы'!$K$767:$K$792
Name Астраханская_область: 'регионы и районы'!$K$793:$K$805
Name Белгородская_область: 'регионы и районы'!$K$806:$K$827
Name Брянская_область: 'регионы и районы'!$K$828:$K$858
Name Владимирская_область: 'регионы и районы'!$K$859:$K$878
Name Волгоградская_область: 'регионы и районы'!$K$879:$K$916
Name Вологодская_область: 'регионы и районы'!$K$917:$K$944
Name Воронежская_область: 'регионы и районы'!$K$945:$K$978
Name г._Москва: 'регионы и районы'!$K$2244:$K$2255
Name г._Санкт_Петербург: 'регионы и районы'!$K$2256:$K$2273
Name г._Севастополь: 'регионы и районы'!$K$2365:$K$2368
Name Донецкая_Народная_Республика: 'регионы и районы'!$K$2369:$K$2398
Name Еврейская_автономная_область: 'регионы и районы'!$K$2274:$K$2279
Name Забайкальский_край: 'регионы и районы'!$K$2191:$K$2222
Name Запорожская_область: 'регионы и районы'!$K$2324:$K$2339
Name Ивановская_область: 'регионы и районы'!$K$979:$K$1005
Name Иркутская_область: 'регионы и районы'!$K$1006:$K$1047
Name Кабардино_Балкарская_Республика: 'регионы и районы'!$K$168:$K$180
Name Калининградская_область: 'регионы и районы'!$K$1048:$K$1069
Name Калужская_область: 'регионы и районы'!$K$1070:$K$1095
Name Камчатский_край: 'регионы и районы'!$K$1096:$K$1109
Name Карачаево_Черкесская_Республика: 'регионы и районы'!$K$195:$K$206
Name Кемеровская_область___Кузбасс: 'регионы и районы'!$K$1110:$K$1140
Name Кировская_область: 'регионы и районы'!$K$1141:$K$1185
Name Костромская_область: 'регионы и районы'!$K$1186:$K$1214
Name Краснодарский_край: 'регионы и районы'!$K$546:$K$590
Name Красноярский_край: 'регионы и районы'!$K$591:$K$651
Name Курганская_область: 'регионы и районы'!$K$1215:$K$1240
Name Курская_область: 'регионы и районы'!$K$1241:$K$1273
Name Ленинградская_область: 'регионы и районы'!$K$1274:$K$1291
Name Липецкая_область: 'регионы и районы'!$K$1292:$K$1311
Name Луганская_Народная_Республика: 'регионы и районы'!$K$2399:$K$2426
Name Магаданская_область: 'регионы и районы'!$K$1312:$K$1320
Name Московская_область: 'регионы и районы'!$K$1321:$K$1377
Name Мурманская_область: 'регионы и районы'!$K$1378:$K$1394
Name Ненецкий_автономный_округ: 'регионы и районы'!$K$2280:$K$2281
Name Нижегородская_область: 'регионы и районы'!$K$1395:$K$1445
Name Новгородская_область: 'регионы и районы'!$K$1446:$K$1467
Name Новосибирская_область: 'регионы и районы'!$K$1468:$K$1501
Name Омская_область: 'регионы и районы'!$K$1505:$K$1535
Name Оренбургская_область: 'регионы и районы'!$K$1536:$K$1577
Name Орловская_область: 'регионы и районы'!$K$1578:$K$1604
Name Пензенская_область: 'регионы и районы'!$K$1605:$K$1634
Name Пермский_край: 'регионы и районы'!$K$1635:$K$1677
Name Показатели: Показатели!$A$1:$A$227
Name Приморский_край: 'регионы и районы'!$K$652:$K$685
Name Псковская_область: 'регионы и районы'!$K$1678:$K$1703
Name Республика_Адыгея: 'регионы и районы'!$K$2:$K$10
Name Республика_Алтай: 'регионы и районы'!$K$97:$K$107
Name Республика_Башкортостан: 'регионы и районы'!$K$11:$K$73
Name Республика_Бурятия: 'регионы и районы'!$K$74:$K$96
Name Республика_Дагестан: 'регионы и районы'!$K$108:$K$158
Name Республика_Ингушетия: 'регионы и районы'!$K$159:$K$167
Name Республика_Калмыкия: 'регионы и районы'!$K$181:$K$194
Name Республика_Карелия: 'регионы и районы'!$K$207:$K$224
Name Республика_Коми: 'регионы и районы'!$K$225:$K$244
Name Республика_Крым: 'регионы и районы'!$K$2340:$K$2364
Name Республика_Марий_Эл: 'регионы и районы'!$K$245:$K$261

Sheet Шаблон
F1: Гиагинский муниципальный район
F2: Кошехабльский муниципальный район
F3: Красногвардейский муниципальный район
F4: Майкопский муниципальный район
F5: Тахтамукайский муниципальный район
F6: Теучежский муниципальный район
F7: Шовгеновский муниципальный район
F8: город Майкоп
F9: город Адыгейск
F10: Абзелиловский муниципальный район
F11: Альшеевский муниципальный район
F12: Архангельский муниципальный район
... F2234: Тунгокоченский муниципальный округ
F2235: Улётовский муниципальный район | L2235: Барий (Ва, суммарно)
F2236: Хилокский муниципальный район | L2236: Серебро (Ag, суммарно)
F2237: Чернышевский муниципальный район | L2237: Висмут (Bi, суммарно)
F2238: Читинский муниципальный район | L2238: Кобальт (Co, суммарно)
F2239: Шелопугинский муниципальный район | L2239: Литий (Li, суммарно)
F2240: Шилкинский муниципальный район | L2240: Олово (Sn, суммарно)
F2241: город Чита | L2241: Стронций (Sr, суммарно)
F2242: ЗАТО поселок Горный | L2242: Аммиак/аммоний-ион (NH3/NH4+)
F2243: Большесельский муниципальный район | L2243: РНК полиовирусов (Poliovirus)
F2244: Борисоглебский муниципальный район | L2244: Толуол
F2245: Брейтовский муниципальный район | L2245: Хлориды (Cl- )
F2246: Гаврилов-Ямский муниципальный район | L2246: Тетрахлорметан
... F2377: Керчь | L2377: Ацетальдегид
D2378: Республика Адыгея | F2378: Красноперекопск | L2378: Радий-226
D2379: Республика Башкортостан | F2379: Саки | L2379: (2,4-Дихлорфенокси)ацетат аммония
D2380: Республика Бурятия | F2380: Судак | L2380: 2,4-Динитрометилбензол
D2381: Республика Алтай | F2381: Феодосия | L2381: Гидросульфид - ион (HS-)
D2382: Республика Дагестан | F2382: Ялта | L2382: 1-Гидрокси-2,4,6-тринитробензол
D2383: Республика Ингушетия | F2383: Балаклавский | L2383: Бор (В, суммарно)
D2384: Кабардино-Балкарская Республика | F2384: Гагаринский | L2384: Магний дихлорат
D2385: Республика Калмыкия | F2385: Ленинский (Район города Севастополь) | L2385: Ртуть (Hg, суммарно)
D2386: Карачаево-Черкесская Республика | F2386: Нахимовский | L2386: Нитраты (NO3-)
D2387: Республика Карелия | F2387: Александровский муниципальный округ | L2387: 1,1-Дихлорэтен
D2388: Республика Коми | F2388: Амвросиевский муниципальный округ | L2388: 1-Гидрокси-2,6-динитро-2-(1-метилпропил)бензол
D2389: Республика Марий Эл | F2389: Артемовский муниципальный округ | L2389: 2,4-Дихлорфеноксиэтановая кислота
... D2466: Херсонская область | F2466: город Новая Каховка | L2466: Po-210
A2467: Сведения об организации, осуществляющей водоснабжение, или гарантирующей организации | C2467: Код точки отбора пробы воды | D2467: Субъект Российской Федерации | E2467: guid | F2467: Муниципальный район (городской округ) | G2467: guid | H2467: Внутрирайонное МО | I2467: Населенный пункт | J2467: Адрес точки отбора проб воды | K2467: Дата отбора пробы воды | L2467: Показатель | M2467: guid | N2467: Единица измерения | O2467: guid | P2467: Результат исследования (испытания, измерения) | Q2467: Погрешность/ неопределённость результата исследования (испытания, измерения) | R2467: Гигиенический норматив | S2467: Величина временного отступления | T2467: Оценка результата исследования (испытания, измерения) | U2467: guid
A2468: Наименование | B2468: ИНН
A2469: 1. | B2469: 2. | C2469: 3. | D2469: 4. | F2469: 5. | H2469: 6. | I2469: 7. | J2469: 8. | K2469: 9. | L2469: 10. | N2469: 11. | P2469: 12. | Q2469: 13. | R2469: 14. | S2469: 15. | T2469: 16.
A2470: МКУ "Захоперский многоцелевой центр" | B2470: 3457001489 | C2470: 18634412101.10110.0094 | D2470: Волгоградская область | E2470: =IFERROR(VLOOKUP(D2470,'регионы и районы'!B:C,2,0),"") -> e2a7e908-52ed-11ec-8de8-00505695a409 | F2470: Нехаевский муниципальный район | G2470: {=IFERROR(IF(INDEX('регионы и районы'!L:L,MATCH(1,('регионы и районы'!J:J=D2470)*('регионы и районы'!K:K=F2470),0))=0,"",INDEX('регионы и районы'!L:L,MATCH(1,('регионы и районы'!J:J=D2470)*('регионы и районы'!K:K=F2470),0))),"")} -> 03bbd884-538e-11ec-84d7-00505695a409 | H2470: Захоперское с/п | I2470: х.Захоперский | J2470: ул.Московская,79 | K2470: 46227 | L2470: Колифаги | M2470: =IFERROR(VLOOKUP(L2470,Показатели!G:H,2,0),"") -> af9d7b3c-8646-11eb-9796-0200c6dd82e6 | N2470: =IFERROR(VLOOKUP(Шаблон!L2470,Списки!A:B,2,FALSE),"") -> БОЕ/100 см^3 | O2470: =IFERROR(VLOOKUP(N2470,'Единицы измерения'!A:B,2,0),"") -> 3f6e80e2-63b6-11ec-84cc-00505695a409 | P2470: 0 | R2470: отсутствие | T2470: Соответствует | U2470: =IFERROR(VLOOKUP(T2470,Соответствие!A:B,2,0),"") -> 550e8400-e29b-41d4-a716-446655440000
A2471: МКУ "Захоперский многоцелевой центр" | B2471: 3457001489 | C2471: 18634412101.10110.0094 | D2471: Волгоградская область | E2471: =IFERROR(VLOOKUP(D2471,'регионы и районы'!B:C,2,0),"") -> e2a7e908-52ed-11ec-8de8-00505695a409 | F2471: Нехаевский муниципальный район | G2471: {=IFERROR(IF(INDEX('регионы и районы'!L:L,MATCH(1,('регионы и районы'!J:J=D2471)*('регионы и районы'!K:K=F2471),0))=0,"",INDEX('регионы и районы'!L:L,MATCH(1,('регионы и районы'!J:J=D2471)*('регионы и районы'!K:K=F2471),0))),"")} -> 03bbd884-538e-11ec-84d7-00505695a409 | H2471: Захоперское с/п | I2471: х.Захоперский | J2471: ул.Московская,79 | K2471: 46227 | L2471: Обобщенные колиформные бактерии | M2471: =IFERROR(VLOOKUP(L2471,Показатели!G:H,2,0),"") -> 6f2e2ad4-67a9-11ec-9e76-00505695a409 | N2471: =IFERROR(VLOOKUP(Шаблон!L2471,Списки!$A$2:$B$236,2,FALSE),"") -> КОЕ/100см^3 | O2471: =IFERROR(VLOOKUP(N2471,'Единицы измерения'!A:B,2,0),"") -> 402b8a3e-63b6-11ec-84cc-00505695a409 | P2471: 0 | R2471: отсутствие | T2471: Соответствует | U2471: =IFERROR(VLOOKUP(T2471,Соответствие!A:B,2,0),"") -> 550e8400-e29b-41d4-a716-446655440000
A2472: МКУ "Захоперский многоцелевой центр" | B2472: 3457001489 | C2472: 18634412101.10110.0094 | D2472: Волгоградская область | E2472: =IFERROR(VLOOKUP(D2472,'регионы и районы'!B:C,2,0),"") -> e2a7e908-52ed-11ec-8de8-00505695a409 | F2472: Нехаевский муниципальный район | G2472: {=IFERROR(IF(INDEX('регионы и районы'!L:L,MATCH(1,('регионы и районы'!J:J=D2472)*('регионы и районы'!K:K=F2472),0))=0,"",INDEX('регионы и районы'!L:L,MATCH(1,('регионы и районы'!J:J=D2472)*('регионы и районы'!K:K=F2472),0))),"")} -> 03bbd884-538e-11ec-84d7-00505695a409 | H2472: Захоперское с/п | I2472: х.Захоперский | J2472: ул.Московская,79 | K2472: 46227 | L2472: escherichia coli (E. coli) | M2472: =IFERROR(VLOOKUP(L2472,Показатели!G:H,2,0),"") -> 47e5cfe8-1174-11ed-84e0-005056958e11 | N2472: =IFERROR(VLOOKUP(Шаблон!L2472,Списки!$A$2:$B$236,2,FALSE),"") -> КОЕ/100см^3 | O2472: =IFERROR(VLOOKUP(N2472,'Единицы измерения'!A:B,2,0),"") -> 402b8a3e-63b6-11ec-84cc-00505695a409 | P2472: 0 | R2472: отсутствие | T2472: Соответствует | U2472: =IFERROR(VLOOKUP(T2472,Соответствие!A:B,2,0),"") -> 550e8400-e29b-41d4-a716-446655440000
A2473: МКУ "Захоперский многоцелевой центр" | B2473: 3457001489 | C2473: 18634412101.10110.0094 | D2473: Волгоградская область | E2473: =IFERROR(VLOOKUP(D2473,'регионы и районы'!B:C,2,0),"") -> e2a7e908-52ed-11ec-8de8-00505695a409 | F2473: Нехаевский муниципальный район | G2473: {=IFERROR(IF(INDEX('регионы и районы'!L:L,MATCH(1,('регионы и районы'!J:J=D2473)*('регионы и районы'!K:K=F2473),0))=0,"",INDEX('регионы и районы'!L:L,MATCH(1,('регионы и районы'!J:J=D2473)*('регионы и районы'!K:K=F2473),0))),"")} -> 03bbd884-538e-11ec-84d7-00505695a409 | H2473: Захоперское с/п | I2473: х.Захоперский | J2473: ул.Московская,79 | K2473: 46227 | L2473: Энтерококки | M2473: =IFERROR(VLOOKUP(L2473,Показатели!G:H,2,0),"") -> ad488eee-8646-11eb-9796-0200c6dd82e6 | N2473: =IFERROR(VLOOKUP(Шаблон!L2473,Списки!$A$2:$B$236,2,FALSE),"") -> КОЕ/100см^3 | O2473: =IFERROR(VLOOKUP(N2473,'Единицы измерения'!A:B,2,0),"") -> 402b8a3e-63b6-11ec-84cc-00505695a409 | P2473: 0 | R2473: отсутствие | T2473: Соответствует | U2473: =IFERROR(VLOOKUP(T2473,Соответствие!A:B,2,0),"") -> 550e8400-e29b-41d4-a716-446655440000
A2474: МКУ "Захоперский многоцелевой центр" | B2474: 3457001489 | C2474: 18634412101.10110.0094 | D2474: Волгоградская область | E2474: =IFERROR(VLOOKUP(D2474,'регионы и районы'!B:C,2,0),"") -> e2a7e908-52ed-11ec-8de8-00505695a409 | F2474: Нехаевский муниципальный район | G2474: {=IFERROR(IF(INDEX('регионы и районы'!L:L,MATCH(1,('регионы и районы'!J:J=D2474)*('регионы и районы'!K:K=F2474),0))=0,"",INDEX('регионы и районы'!L:L,MATCH(1,('регионы и районы'!J:J=D2474)*('регионы и районы'!K:K=F2474),0))),"")} -> 03bbd884-538e-11ec-84d7-00505695a409 | H2474: Захоперское с/п | I2474: х.Захоперский | J2474: ул.Московская,79 | K2474: 46227 | L2474: Общее микробное число (ОМЧ) (37 ± 1,0) °C | M2474: =IFERROR(VLOOKUP(L2474,Показатели!G:H,2,0),"") -> 80364326-22ec-11ed-9c28-005056958e11 | N2474: =IFERROR(VLOOKUP(Шаблон!L2474,Списки!$A$2:$B$236,2,FALSE),"") -> КОЕ/см^3 | O2474: =IFERROR(VLOOKUP(N2474,'Единицы измерения'!A:B,2,0),"") -> 3f17228e-63b6-11ec-84cc-00505695a409 | P2474: 24 | R2474: не более 50 | T2474: Соответствует | U2474: =IFERROR(VLOOKUP(T2474,Соответствие!A:B,2,0),"") -> 550e8400-e29b-41d4-a716-446655440000
A2475: МКУ "Захоперский многоцелевой центр" | B2475: 3457001489 | C2475: 18634412101.10110.0094 | D2475: Волгоградская область | E2475: =IFERROR(VLOOKUP(D2475,'регионы и районы'!B:C,2,0),"") -> e2a7e908-52ed-11ec-8de8-00505695a409 | F2475: Нехаевский муниципальный район | G2475: {=IFERROR(IF(INDEX('регионы и районы'!L:L,MATCH(1,('регионы и районы'!J:J=D2475)*('регионы и районы'!K:K=F2475),0))=0,"",INDEX('регионы и районы'!L:L,MATCH(1,('регионы и районы'!J:J=D2475)*('регионы и районы'!K:K=F2475),0))),"")} -> 03bbd884-538e-11ec-84d7-00505695a409 | H2475: Захоперское с/п | I2475: х.Захоперский | J2475: ул.Московская,79 | K2475: 46227 | L2475: Цветность | M2475: =IFERROR(VLOOKUP(L2475,Показатели!G:H,2,0),"") -> aeb0c77e-8646-11eb-9796-0200c6dd82e6 | N2475: =IFERROR(VLOOKUP(Шаблон!L2475,Списки!$A$2:$B$236,2,FALSE),"") -> градус цветности | O2475: =IFERROR(VLOOKUP(N2475,'Единицы измерения'!A:B,2,0),"") -> 4c6af712-63b6-11ec-84cc-00505695a409 | P2475: -1 | Q2475: 0.95 | R2475: не более 20 | T2475: Соответствует | U2475: =IFERROR(VLOOKUP(T2475,Соответствие!A:B,2,0),"") -> 550e8400-e29b-41d4-a716-446655440000
A2476: МКУ "Захоперский многоцелевой центр" | B2476: 3457001489 | C2476: 18634412101.10110.0094 | D2476: Волгоградская область | E2476: =IFERROR(VLOOKUP(D2476,'регионы и районы'!B:C,2,0),"") -> e2a7e908-52ed-11ec-8de8-00505695a409 | F2476: Нехаевский муниципальный район | G2476: {=IFERROR(IF(INDEX('регионы и районы'!L:L,MATCH(1,('регионы и районы'!J:J=D2476)*('регионы и районы'!K:K=F2476),0))=0,"",INDEX('регионы и районы'!L:L,MATCH(1,('регионы и районы'!J:J=D2476)*('регионы и районы'!K:K=F2476),0))),"")} -> 03bbd884-538e-11ec-84d7-00505695a409 | H2476: Захоперское с/п | I2476: х.Захоперский | J2476: ул.Московская,79 | K2476: 46227 | L2476: Запах | M2476: =IFERROR(VLOOKUP(L2476,Показатели!G:H,2,0),"") -> b13d6092-8646-11eb-9796-0200c6dd82e6 | N2476: =IFERROR(VLOOKUP(Шаблон!L2476,Списки!$A$2:$B$236,2,FALSE),"") -> балл | O2476: =IFERROR(VLOOKUP(N2476,'Единицы измерения'!A:B,2,0),"") -> 422ad51a-63b6-11ec-84cc-00505695a409 | P2476: 0 | R2476: не более 2 | T2476: Соответствует | U2476: =IFERROR(VLOOKUP(T2476,Соответствие!A:B,2,0),"") -> 550e8400-e29b-41d4-a716-446655440000
A2477: МКУ "Захоперский многоцелевой центр" | B2477: 3457001489 | C2477: 18634412101.10110.0094 | D2477: Волгоградская область | E2477: =IFERROR(VLOOKUP(D2477,'регионы и районы'!B:C,2,0),"") -> e2a7e908-52ed-11ec-8de8-00505695a409 | F2477: Нехаевский муниципальный район | G2477: {=IFERROR(IF(INDEX('регионы и районы'!L:L,MATCH(1,('регионы и районы'!J:J=D2477)*('регионы и районы'!K:K=F2477),0))=0,"",INDEX('регионы и районы'!L:L,MATCH(1,('регионы и районы'!J:J=D2477)*('регионы и районы'!K:K=F2477),0))),"")} -> 03bbd884-538e-11ec-84d7-00505695a409 | H2477: Захоперское с/п | I2477: х.Захоперский | J2477: ул.Московская,79 | K2477: 46227 | L2477: Мутность (по формазину) | M2477: =IFERROR(VLOOKUP(L2477,Показатели!G:H,2,0),"") -> 9edc6c2c-8646-11eb-9796-0200c6dd82e6 | N2477: =IFERROR(VLOOKUP(Шаблон!L2477,Списки!$A$2:$B$236,2,FALSE),"") -> ЕМФ | O2477: =IFERROR(VLOOKUP(N2477,'Единицы измерения'!A:B,2,0),"") -> 427580b0-63b6-11ec-84cc-00505695a409 | P2477: -1 | Q2477: 0.95 | R2477: не более 2,6 | T2477: Соответствует | U2477: =IFERROR(VLOOKUP(T2477,Соответствие!A:B,2,0),"") -> 550e8400-e29b-41d4-a716-446655440000
A2478: МКУ "Захоперский многоцелевой центр" | B2478: 3457001489 | C2478: 18634412101.10110.0094 | D2478: Волгоградская область | E2478: =IFERROR(VLOOKUP(D2478,'регионы и районы'!B:C,2,0),"") -> e2a7e908-52ed-11ec-8de8-00505695a409 | F2478: Нехаевский муниципальный район | G2478: {=IFERROR(IF(INDEX('регионы и районы'!L:L,MATCH(1,('регионы и районы'!J:J=D2478)*('регионы и районы'!K:K=F2478),0))=0,"",INDEX('регионы и районы'!L:L,MATCH(1,('регионы и районы'!J:J=D2478)*('регионы и районы'!K:K=F2478),0))),"")} -> 03bbd884-538e-11ec-84d7-00505695a409 | H2478: Захоперское с/п | I2478: х.Захоперский | J2478: ул.Московская,79 | K2478: 46227 | L2478: Привкус | M2478: =IFERROR(VLOOKUP(L2478,Показатели!G:H,2,0),"") -> b0328074-8646-11eb-9796-0200c6dd82e6 | N2478: =IFERROR(VLOOKUP(Шаблон!L2478,Списки!$A$2:$B$236,2,FALSE),"") -> балл | O2478: =IFERROR(VLOOKUP(N2478,'Единицы измерения'!A:B,2,0),"") -> 422ad51a-63b6-11ec-84cc-00505695a409 | P2478: 0 | R2478: не более 2 | T2478: Соответствует | U2478: =IFERROR(VLOOKUP(T2478,Соответствие!A:B,2,0),"") -> 550e8400-e29b-41d4-a716-446655440000
A2479: МКУ "Захоперский многоцелевой центр" | B2479: 3457001489 | C2479: 18634412101.10110.0095 | D2479: Волгоградская область | E2479: =IFERROR(VLOOKUP(D2479,'регионы и районы'!B:C,2,0),"") -> e2a7e908-52ed-11ec-8de8-00505695a409 | F2479: Нехаевский муниципальный район | G2479: {=IFERROR(IF(INDEX('регионы и районы'!L:L,MATCH(1,('регионы и районы'!J:J=D2479)*('регионы и районы'!K:K=F2479),0))=0,"",INDEX('регионы и районы'!L:L,MATCH(1,('регионы и районы'!J:J=D2479)*('регионы и районы'!K:K=F2479),0))),"")} -> 03bbd884-538e-11ec-84d7-00505695a409 | H2479: Захоперское с/п | I2479: х.Захоперский | J2479: ул.Октябрьская,33 | K2479: 46227 | L2479: Колифаги | M2479: =IFERROR(VLOOKUP(L2479,Показатели!G:H,2,0),"") -> af9d7b3c-8646-11eb-9796-0200c6dd82e6 | N2479: =IFERROR(VLOOKUP(Шаблон!L2479,Списки!$A$2:$B$236,2,FALSE),"") -> БОЕ/100 см^3 | O2479: =IFERROR(VLOOKUP(N2479,'Единицы измерения'!A:B,2,0),"") -> 3f6e80e2-63b6-11ec-84cc-00505695a409 | P2479: 0 | R2479: отсутствие | T2479: Соответствует | U2479: =IFERROR(VLOOKUP(T2479,Соответствие!A:B,2,0),"") -> 550e8400-e29b-41d4-a716-446655440000
A2480: МКУ "Захоперский многоцелевой центр" | B2480: 3457001489 | C2480: 18634412101.10110.0095 | D2480: Волгоградская область | E2480: =IFERROR(VLOOKUP(D2480,'регионы и районы'!B:C,2,0),"") -> e2a7e908-52ed-11ec-8de8-00505695a409 | F2480: Нехаевский муниципальный район | G2480: {=IFERROR(IF(INDEX('регионы и районы'!L:L,MATCH(1,('регионы и районы'!J:J=D2480)*('регионы и районы'!K:K=F2480),0))=0,"",INDEX('регионы и районы'!L:L,MATCH(1,('регионы и районы'!J:J=D2480)*('регионы и районы'!K:K=F2480),0))),"")} -> 03bbd884-538e-11ec-84d7-00505695a409 | H2480: Захоперское с/п | I2480: х.Захоперский | J2480: ул.Октябрьская,33 | K2480: 46227 | L2480: Обобщенные колиформные бактерии | M2480: =IFERROR(VLOOKUP(L2480,Показатели!G:H,2,0),"") -> 6f2e2ad4-67a9-11ec-9e76-00505695a409 | N2480: =IFERROR(VLOOKUP(Шаблон!L2480,Списки!$A$2:$B$236,2,FALSE),"") -> КОЕ/100см^3 | O2480: =IFERROR(VLOOKUP(N2480,'Единицы измерения'!A:B,2,0),"") -> 402b8a3e-63b6-11ec-84cc-00505695a409 | P2480: 0 | R2480: отсутствие | T2480: Соответствует | U2480: =IFERROR(VLOOKUP(T2480,Соответствие!A:B,2,0),"") -> 550e8400-e29b-41d4-a716-446655440000
A2481: МКУ "Захоперский многоцелевой центр" | B2481: 3457001489 | C2481: 18634412101.10110.0095 | D2481: Волгоградская область | E2481: =IFERROR(VLOOKUP(D2481,'регионы и районы'!B:C,2,0),"") -> e2a7e908-52ed-11ec-8de8-00505695a409 | F2481: Нехаевский муниципальный район | G2481: {=IFERROR(IF(INDEX('регионы и районы'!L:L,MATCH(1,('регионы и районы'!J:J=D2481)*('регионы и районы'!K:K=F2481),0))=0,"",INDEX('регионы и районы'!L:L,MATCH(1,('регионы и районы'!J:J=D2481)*('регионы и районы'!K:K=F2481),0))),"")} -> 03bbd884-538e-11ec-84d7-00505695a409 | H2481: Захоперское с/п | I2481: х.Захоперский | J2481: ул.Октябрьская,33 | K2481: 46227 | L2481: escherichia coli (E. coli) | M2481: =IFERROR(VLOOKUP(L2481,Показатели!G:H,2,0),"") -> 47e5cfe8-1174-11ed-84e0-005056958e11 | N2481: =IFERROR(VLOOKUP(Шаблон!L2481,Списки!$A$2:$B$236,2,FALSE),"") -> КОЕ/100см^3 | O2481: =IFERROR(VLOOKUP(N2481,'Единицы измерения'!A:B,2,0),"") -> 402b8a3e-63b6-11ec-84cc-00505695a409 | P2481: 0 | R2481: отсутствие | T2481: Соответствует | U2481: =IFERROR(VLOOKUP(T2481,Соответствие!A:B,2,0),"") -> 550e8400-e29b-41d4-a716-446655440000
A2482: МКУ "Захоперский многоцелевой центр" | B2482: 3457001489 | C2482: 18634412101.10110.0095 | D2482: Волгоградская область | E2482: =IFERROR(VLOOKUP(D2482,'регионы и районы'!B:C,2,0),"") -> e2a7e908-52ed-11ec-8de8-00505695a409 | F2482: Нехаевский муниципальный район | G2482: {=IFERROR(IF(INDEX('регионы и районы'!L:L,MATCH(1,('регионы и районы'!J:J=D2482)*('регионы и районы'!K:K=F2482),0))=0,"",INDEX('регионы и районы'!L:L,MATCH(1,('регионы и районы'!J:J=D2482)*('регионы и районы'!K:K=F2482),0))),"")} -> 03bbd884-538e-11ec-84d7-00505695a409 | H2482: Захоперское с/п | I2482: х.Захоперский | J2482: ул.Октябрьская,33 | K2482: 46227 | L2482: Энтерококки | M2482: =IFERROR(VLOOKUP(L2482,Показатели!G:H,2,0),"") -> ad488eee-8646-11eb-9796-0200c6dd82e6 | N2482: =IFERROR(VLOOKUP(Шаблон!L2482,Списки!$A$2:$B$236,2,FALSE),"") -> КОЕ/100см^3 | O2482: =IFERROR(VLOOKUP(N2482,'Единицы измерения'!A:B,2,0),"") -> 402b8a3e-63b6-11ec-84cc-00505695a409 | P2482: 0 | R2482: отсутствие | T2482: Соответствует | U2482: =IFERROR(VLOOKUP(T2482,Соответствие!A:B,2,0),"") -> 550e8400-e29b-41d4-a716-446655440000
A2483: МКУ "Захоперский многоцелевой центр" | B2483: 3457001489 | C2483: 18634412101.10110.0095 | D2483: Волгоградская область | E2483: =IFERROR(VLOOKUP(D2483,'регионы и районы'!B:C,2,0),"") -> e2a7e908-52ed-11ec-8de8-00505695a409 | F2483: Нехаевский муниципальный район | G2483: {=IFERROR(IF(INDEX('регионы и районы'!L:L,MATCH(1,('регионы и районы'!J:J=D2483)*('регионы и районы'!K:K=F2483),0))=0,"",INDEX('регионы и районы'!L:L,MATCH(1,('регионы и районы'!J:J=D2483)*('регионы и районы'!K:K=F2483),0))),"")} -> 03bbd884-538e-11ec-84d7-00505695a409 | H2483: Захоперское с/п | I2483: х.Захоперский | J2483: ул.Октябрьская,33 | K2483: 46227 | L2483: Общее микробное число (ОМЧ) (37 ± 1,0) °C | M2483: =IFERROR(VLOOKUP(L2483,Показатели!G:H,2,0),"") -> 80364326-22ec-11ed-9c28-005056958e11 | N2483: =IFERROR(VLOOKUP(Шаблон!L2483,Списки!$A$2:$B$236,2,FALSE),"") -> КОЕ/см^3 | O2483: =IFERROR(VLOOKUP(N2483,'Единицы измерения'!A:B,2,0),"") -> 3f17228e-63b6-11ec-84cc-00505695a409 | P2483: 18 | R2483: не более 50 | T2483: Соответствует | U2483: =IFERROR(VLOOKUP(T2483,Соответствие!A:B,2,0),"") -> 550e8400-e29b-41d4-a716-446655440000
A2484: МКУ "Захоперский многоцелевой центр" | B2484: 3457001489 | C2484: 18634412101.10110.0095 | D2484: Волгоградская область | E2484: =IFERROR(VLOOKUP(D2484,'регионы и районы'!B:C,2,0),"") -> e2a7e908-52ed-11ec-8de8-00505695a409 | F2484: Нехаевский муниципальный район | G2484: {=IFERROR(IF(INDEX('регионы и районы'!L:L,MATCH(1,('регионы и районы'!J:J=D2484)*('регионы и районы'!K:K=F2484),0))=0,"",INDEX('регионы и районы'!L:L,MATCH(1,('регионы и районы'!J:J=D2484)*('регионы и районы'!K:K=F2484),0))),"")} -> 03bbd884-538e-11ec-84d7-00505695a409 | H2484: Захоперское с/п | I2484: х.Захоперский | J2484: ул.Октябрьская,33 | K2484: 46227 | L2484: Цветность | M2484: =IFERROR(VLOOKUP(L2484,Показатели!G:H,2,0),"") -> aeb0c77e-8646-11eb-9796-0200c6dd82e6 | N2484: =IFERROR(VLOOKUP(Шаблон!L2484,Списки!$A$2:$B$236,2,FALSE),"") -> градус цветности | O2484: =IFERROR(VLOOKUP(N2484,'Единицы измерения'!A:B,2,0),"") -> 4c6af712-63b6-11ec-84cc-00505695a409 | P2484: -1 | Q2484: 0.95 | R2484: не более 20 | T2484: Соответствует | U2484: =IFERROR(VLOOKUP(T2484,Соответствие!A:B,2,0),"") -> 550e8400-e29b-41d4-a716-446655440000
A2485: МКУ "Захоперский многоцелевой центр" | B2485: 3457001489 | C2485: 18634412101.10110.0095 | D2485: Волгоградская область | E2485: =IFERROR(VLOOKUP(D2485,'регионы и районы'!B:C,2,0),"") -> e2a7e908-52ed-11ec-8de8-00505695a409 | F2485: Нехаевский муниципальный район | G2485: {=IFERROR(IF(INDEX('регионы и районы'!L:L,MATCH(1,('регионы и районы'!J:J=D2485)*('регионы и районы'!K:K=F2485),0))=0,"",INDEX('регионы и районы'!L:L,MATCH(1,('регионы и районы'!J:J=D2485)*('регионы и районы'!K:K=F2485),0))),"")} -> 03bbd884-538e-11ec-84d7-00505695a409 | H2485: Захоперское с/п | I2485: х.Захоперский | J2485: ул.Октябрьская,33 | K2485: 46227 | L2485: Запах | M2485: =IFERROR(VLOOKUP(L2485,Показатели!G:H,2,0),"") -> b13d6092-8646-11eb-9796-0200c6dd82e6 | N2485: =IFERROR(VLOOKUP(Шаблон!L2485,Списки!$A$2:$B$236,2,FALSE),"") -> балл | O2485: =IFERROR(VLOOKUP(N2485,'Единицы измерения'!A:B,2,0),"") -> 422ad51a-63b6-11ec-84cc-00505695a409 | P2485: 0 | R2485: не более 2 | T2485: Соответствует | U2485: =IFERROR(VLOOKUP(T2485,Соответствие!A:B,2,0),"") -> 550e8400-e29b-41d4-a716-446655440000
A2486: МКУ "Захоперский многоцелевой центр" | B2486: 3457001489 | C2486: 18634412101.10110.0095 | D2486: Волгоградская область | E2486: =IFERROR(VLOOKUP(D2486,'регионы и районы'!B:C,2,0),"") -> e2a7e908-52ed-11ec-8de8-00505695a409 | F2486: Нехаевский муниципальный район | G2486: {=IFERROR(IF(INDEX('регионы и районы'!L:L,MATCH(1,('регионы и районы'!J:J=D2486)*('регионы и районы'!K:K=F2486),0))=0,"",INDEX('регионы и районы'!L:L,MATCH(1,('регионы и районы'!J:J=D2486)*('регионы и районы'!K:K=F2486),0))),"")} -> 03bbd884-538e-11ec-84d7-00505695a409 | H2486: Захоперское с/п | I2486: х.Захоперский | J2486: ул.Октябрьская,33 | K2486: 46227 | L2486: Мутность (по формазину) | M2486: =IFERROR(VLOOKUP(L2486,Показатели!G:H,2,0),"") -> 9edc6c2c-8646-11eb-9796-0200c6dd82e6 | N2486: =IFERROR(VLOOKUP(Шаблон!L2486,Списки!$A$2:$B$236,2,FALSE),"") -> ЕМФ | O2486: =IFERROR(VLOOKUP(N2486,'Единицы измерения'!A:B,2,0),"") -> 427580b0-63b6-11ec-84cc-00505695a409 | P2486: -1 | Q2486: 0.95 | R2486: не более 2,6 | T2486: Соответствует | U2486: =IFERROR(VLOOKUP(T2486,Соответствие!A:B,2,0),"") -> 550e8400-e29b-41d4-a716-446655440000
A2487: МКУ "Захоперский многоцелевой центр" | B2487: 3457001489 | C2487: 18634412101.10110.0095 | D2487: Волгоградская область | E2487: =IFERROR(VLOOKUP(D2487,'регионы и районы'!B:C,2,0),"") -> e2a7e908-52ed-11ec-8de8-00505695a409 | F2487: Нехаевский муниципальный район | G2487: {=IFERROR(IF(INDEX('регионы и районы'!L:L,MATCH(1,('регионы и районы'!J:J=D2487)*('регионы и районы'!K:K=F2487),0))=0,"",INDEX('регионы и районы'!L:L,MATCH(1,('регионы и районы'!J:J=D2487)*('регионы и районы'!K:K=F2487),0))),"")} -> 03bbd884-538e-11ec-84d7-00505695a409 | H2487: Захоперское с/п | I2487: х.Захоперский | J2487: ул.Октябрьская,33 | K2487: 46227 | L2487: Привкус | M2487: =IFERROR(VLOOKUP(L2487,Показатели!G:H,2,0),"") -> b0328074-8646-11eb-9796-0200c6dd82e6 | N2487: =IFERROR(VLOOKUP(Шаблон!L2487,Списки!$A$2:$B$236,2,FALSE),"") -> балл | O2487: =IFERROR(VLOOKUP(N2487,'Единицы измерения'!A:B,2,0),"") -> 422ad51a-63b6-11ec-84cc-00505695a409 | P2487: 0 | R2487: не более 2 | T2487: Соответствует | U2487: =IFERROR(VLOOKUP(T2487,Соответствие!A:B,2,0),"") -> 550e8400-e29b-41d4-a716-446655440000
E2488: =IFERROR(VLOOKUP(D2488,'регионы и районы'!B:C,2,0),"") | G2488: {=IFERROR(IF(INDEX('регионы и районы'!L:L,MATCH(1,('регионы и районы'!J:J=D2488)*('регионы и районы'!K:K=F2488),0))=0,"",INDEX('регионы и районы'!L:L,MATCH(1,('регионы и районы'!J:J=D2488)*('регионы и районы'!K:K=F2488),0))),"")} | M2488: =IFERROR(VLOOKUP(L2488,Показатели!G:H,2,0),"") | N2488: =IFERROR(VLOOKUP(Шаблон!L2488,Списки!$A$2:$B$236,2,FALSE),"") | O2488: =IFERROR(VLOOKUP(N2488,'Единицы измерения'!A:B,2,0),"") | U2488: =IFERROR(VLOOKUP(T2488,Соответствие!A:B,2,0),"")
E2489: =IFERROR(VLOOKUP(D2489,'регионы и районы'!B:C,2,0),"") | G2489: {=IFERROR(IF(INDEX('регионы и районы'!L:L,MATCH(1,('регионы и районы'!J:J=D2489)*('регионы и районы'!K:K=F2489),0))=0,"",INDEX('регионы и районы'!L:L,MATCH(1,('регионы и районы'!J:J=D2489)*('регионы и районы'!K:K=F2489),0))),"")} | M2489: =IFERROR(VLOOKUP(L2489,Показатели!G:H,2,0),"") | N2489: =IFERROR(VLOOKUP(Шаблон!L2489,Списки!$A$2:$B$236,2,FALSE),"") | O2489: =IFERROR(VLOOKUP(N2489,'Единицы измерения'!A:B,2,0),"") | U2489: =IFERROR(VLOOKUP(T2489,Соответствие!A:B,2,0),"")
E2490: =IFERROR(VLOOKUP(D2490,'регионы и районы'!B:C,2,0),"") | G2490: {=IFERROR(IF(INDEX('регионы и районы'!L:L,MATCH(1,('регионы и районы'!J:J=D2490)*('регионы и районы'!K:K=F2490),0))=0,"",INDEX('регионы и районы'!L:L,MATCH(1,('регионы и районы'!J:J=D2490)*('регионы и районы'!K:K=F2490),0))),"")} | M2490: =IFERROR(VLOOKUP(L2490,Показатели!G:H,2,0),"") | N2490: =IFERROR(VLOOKUP(Шаблон!L2490,Списки!$A$2:$B$236,2,FALSE),"") | O2490: =IFERROR(VLOOKUP(N2490,'Единицы измерения'!A:B,2,0),"") | U2490: =IFERROR(VLOOKUP(T2490,Соответствие!A:B,2,0),"")
E2491: =IFERROR(VLOOKUP(D2491,'регионы и районы'!B:C,2,0),"") | G2491: {=IFERROR(IF(INDEX('регионы и районы'!L:L,MATCH(1,('регионы и районы'!J:J=D2491)*('регионы и районы'!K:K=F2491),0))=0,"",INDEX('регионы и районы'!L:L,MATCH(1,('регионы и районы'!J:J=D2491)*('регионы и районы'!K:K=F2491),0))),"")} | M2491: =IFERROR(VLOOKUP(L2491,Показатели!G:H,2,0),"") | N2491: =IFERROR(VLOOKUP(Шаблон!L2491,Списки!$A$2:$B$236,2,FALSE),"") | O2491: =IFERROR(VLOOKUP(N2491,'Единицы измерения'!A:B,2,0),"") | U2491: =IFERROR(VLOOKUP(T2491,Соответствие!A:B,2,0),"")
E2492: =IFERROR(VLOOKUP(D2492,'регионы и районы'!B:C,2,0),"") | G2492: {=IFERROR(IF(INDEX('регионы и районы'!L:L,MATCH(1,('регионы и районы'!J:J=D2492)*('регионы и районы'!K:K=F2492),0))=0,"",INDEX('регионы и районы'!L:L,MATCH(1,('регионы и районы'!J:J=D2492)*('регионы и районы'!K:K=F2492),0))),"")} | M2492: =IFERROR(VLOOKUP(L2492,Показатели!G:H,2,0),"") | N2492: =IFERROR(VLOOKUP(Шаблон!L2492,Списки!$A$2:$B$236,2,FALSE),"") | O2492: =IFERROR(VLOOKUP(N2492,'Единицы измерения'!A:B,2,0),"") | U2492: =IFERROR(VLOOKUP(T2492,Соответствие!A:B,2,0),"")
E2493: =IFERROR(VLOOKUP(D2493,'регионы и районы'!B:C,2,0),"") | G2493: {=IFERROR(IF(INDEX('регионы и районы'!L:L,MATCH(1,('регионы и районы'!J:J=D2493)*('регионы и районы'!K:K=F2493),0))=0,"",INDEX('регионы и районы'!L:L,MATCH(1,('регионы и районы'!J:J=D2493)*('регионы и районы'!K:K=F2493),0))),"")} | M2493: =IFERROR(VLOOKUP(L2493,Показатели!G:H,2,0),"") | N2493: =IFERROR(VLOOKUP(Шаблон!L2493,Списки!$A$2:$B$236,2,FALSE),"") | O2493: =IFERROR(VLOOKUP(N2493,'Единицы измерения'!A:B,2,0),"") | U2493: =IFERROR(VLOOKUP(T2493,Соответствие!A:B,2,0),"")
E2494: =IFERROR(VLOOKUP(D2494,'регионы и районы'!B:C,2,0),"") | G2494: {=IFERROR(IF(INDEX('регионы и районы'!L:L,MATCH(1,('регионы и районы'!J:J=D2494)*('регионы и районы'!K:K=F2494),0))=0,"",INDEX('регионы и районы'!L:L,MATCH(1,('регионы и районы'!J:J=D2494)*('регионы и районы'!K:K=F2494),0))),"")} | M2494: =IFERROR(VLOOKUP(L2494,Показатели!G:H,2,0),"") | N2494: =IFERROR(VLOOKUP(Шаблон!L2494,Списки!$A$2:$B$236,2,FALSE),"") | O2494: =IFERROR(VLOOKUP(N2494,'Единицы измерения'!A:B,2,0),"") | U2494: =IFERROR(VLOOKUP(T2494,Соответствие!A:B,2,0),"")
E2495: =IFERROR(VLOOKUP(D2495,'регионы и районы'!B:C,2,0),"") | G2495: {=IFERROR(IF(INDEX('регионы и районы'!L:L,MATCH(1,('регионы и районы'!J:J=D2495)*('регионы и районы'!K:K=F2495),0))=0,"",INDEX('регионы и районы'!L:L,MATCH(1,('регионы и районы'!J:J=D2495)*('регионы и районы'!K:K=F2495),0))),"")} | M2495: =IFERROR(VLOOKUP(L2495,Показатели!G:H,2,0),"") | N2495: =IFERROR(VLOOKUP(Шаблон!L2495,Списки!$A$2:$B$236,2,FALSE),"") | O2495: =IFERROR(VLOOKUP(N2495,'Единицы измерения'!A:B,2,0),"") | U2495: =IFERROR(VLOOKUP(T2495,Соответствие!A:B,2,0),"")
E2496: =IFERROR(VLOOKUP(D2496,'регионы и районы'!B:C,2,0),"") | G2496: {=IFERROR(IF(INDEX('регионы и районы'!L:L,MATCH(1,('регионы и районы'!J:J=D2496)*('регионы и районы'!K:K=F2496),0))=0,"",INDEX('регионы и районы'!L:L,MATCH(1,('регионы и районы'!J:J=D2496)*('регионы и районы'!K:K=F2496),0))),"")} | M2496: =IFERROR(VLOOKUP(L2496,Показатели!G:H,2,0),"") | N2496: =IFERROR(VLOOKUP(Шаблон!L2496,Списки!$A$2:$B$236,2,FALSE),"") | O2496: =IFERROR(VLOOKUP(N2496,'Единицы измерения'!A:B,2,0),"") | U2496: =IFERROR(VLOOKUP(T2496,Соответствие!A:B,2,0),"")
E2497: =IFERROR(VLOOKUP(D2497,'регионы и районы'!B:C,2,0),"") | G2497: {=IFERROR(IF(INDEX('регионы и районы'!L:L,MATCH(1,('регионы и районы'!J:J=D2497)*('регионы и районы'!K:K=F2497),0))=0,"",INDEX('регионы и районы'!L:L,MATCH(1,('регионы и районы'!J:J=D2497)*('регионы и районы'!K:K=F2497),0))),"")} | M2497: =IFERROR(VLOOKUP(L2497,Показатели!G:H,2,0),"") | N2497: =IFERROR(VLOOKUP(Шаблон!L2497,Списки!$A$2:$B$236,2,FALSE),"") | O2497: =IFERROR(VLOOKUP(N2497,'Единицы измерения'!A:B,2,0),"") | U2497: =IFERROR(VLOOKUP(T2497,Соответствие!A:B,2,0),"")
E2498: =IFERROR(VLOOKUP(D2498,'регионы и районы'!B:C,2,0),"") | G2498: {=IFERROR(IF(INDEX('регионы и районы'!L:L,MATCH(1,('регионы и районы'!J:J=D2498)*('регионы и районы'!K:K=F2498),0))=0,"",INDEX('регионы и районы'!L:L,MATCH(1,('регионы и районы'!J:J=D2498)*('регионы и районы'!K:K=F2498),0))),"")} | M2498: =IFERROR(VLOOKUP(L2498,Показатели!G:H,2,0),"") | N2498: =IFERROR(VLOOKUP(Шаблон!L2498,Списки!$A$2:$B$236,2,FALSE),"") | O2498: =IFERROR(VLOOKUP(N2498,'Единицы измерения'!A:B,2,0),"") | U2498: =IFERROR(VLOOKUP(T2498,Соответствие!A:B,2,0),"")
E2499: =IFERROR(VLOOKUP(D2499,'регионы и районы'!B:C,2,0),"") | G2499: {=IFERROR(IF(INDEX('регионы и районы'!L:L,MATCH(1,('регионы и районы'!J:J=D2499)*('регионы и районы'!K:K=F2499),0))=0,"",INDEX('регионы и районы'!L:L,MATCH(1,('регионы и районы'!J:J=D2499)*('регионы и районы'!K:K=F2499),0))),"")} | M2499: =IFERROR(VLOOKUP(L2499,Показатели!G:H,2,0),"") | N2499: =IFERROR(VLOOKUP(Шаблон!L2499,Списки!$A$2:$B$236,2,FALSE),"") | O2499: =IFERROR(VLOOKUP(N2499,'Единицы измерения'!A:B,2,0),"") | U2499: =IFERROR(VLOOKUP(T2499,Соответствие!A:B,2,0),"")
... E2570: =IFERROR(VLOOKUP(D2570,'регионы и районы'!B:C,2,0),"") | G2570: {=IFERROR(IF(INDEX('регионы и районы'!L:L,MATCH(1,('регионы и районы'!J:J=D2570)*('регионы и районы'!K:K=F2570),0))=0,"",INDEX('регионы и районы'!L:L,MATCH(1,('регионы и районы'!J:J=D2570)*('регионы и районы'!K:K=F2570),0))),"")} | M2570: =IFERROR(VLOOKUP(L2570,Показатели!G:H,2,0),"") | N2570: =IFERROR(VLOOKUP(Шаблон!L2570,Списки!$A$2:$B$236,2,FALSE),"") | O2570: =IFERROR(VLOOKUP(N2570,'Единицы измерения'!A:B,2,0),"") | U2570: =IFERROR(VLOOKUP(T2570,Соответствие!A:B,2,0),"")
E2571: =IFERROR(VLOOKUP(D2571,'регионы и районы'!B:C,2,0),"") | G2571: {=IFERROR(IF(INDEX('регионы и районы'!L:L,MATCH(1,('регионы и районы'!J:J=D2571)*('регионы и районы'!K:K=F2571),0))=0,"",INDEX('регионы и районы'!L:L,MATCH(1,('регионы и районы'!J:J=D2571)*('регионы и районы'!K:K=F2571),0))),"")} | U2571: =IFERROR(VLOOKUP(T2571,Соответствие!A:B,2,0),"")
E2572: =IFERROR(VLOOKUP(D2572,'регионы и районы'!B:C,2,0),"") | G2572: {=IFERROR(IF(INDEX('регионы и районы'!L:L,MATCH(1,('регионы и районы'!J:J=D2572)*('регионы и районы'!K:K=F2572),0))=0,"",INDEX('регионы и районы'!L:L,MATCH(1,('регионы и районы'!J:J=D2572)*('регионы и районы'!K:K=F2572),0))),"")} | M2572: =IFERROR(VLOOKUP(L2572,Показатели!G:H,2,0),"") | N2572: =IFERROR(VLOOKUP(Шаблон!L2572,Списки!$A$2:$B$236,2,FALSE),"") | O2572: =IFERROR(VLOOKUP(N2572,'Единицы измерения'!A:B,2,0),"") | U2572: =IFERROR(VLOOKUP(T2572,Соответствие!A:B,2,0),"")
E2573: =IFERROR(VLOOKUP(D2573,'регионы и районы'!B:C,2,0),"") | G2573: {=IFERROR(IF(INDEX('регионы и районы'!L:L,MATCH(1,('регионы и районы'!J:J=D2573)*('регионы и районы'!K:K=F2573),0))=0,"",INDEX('регионы и районы'!L:L,MATCH(1,('регионы и районы'!J:J=D2573)*('регионы и районы'!K:K=F2573),0))),"")} | M2573: =IFERROR(VLOOKUP(L2573,Показатели!G:H,2,0),"") | N2573: =IFERROR(VLOOKUP(Шаблон!L2573,Списки!$A$2:$B$236,2,FALSE),"") | O2573: =IFERROR(VLOOKUP(N2573,'Единицы измерения'!A:B,2,0),"") | U2573: =IFERROR(VLOOKUP(T2573,Соответствие!A:B,2,0),"")
E2574: =IFERROR(VLOOKUP(D2574,'регионы и районы'!B:C,2,0),"") | G2574: {=IFERROR(IF(INDEX('регионы и районы'!L:L,MATCH(1,('регионы и районы'!J:J=D2574)*('регионы и районы'!K:K=F2574),0))=0,"",INDEX('регионы и районы'!L:L,MATCH(1,('регионы и районы'!J:J=D2574)*('регионы и районы'!K:K=F2574),0))),"")} | M2574: =IFERROR(VLOOKUP(L2574,Показатели!G:H,2,0),"") | N2574: =IFERROR(VLOOKUP(Шаблон!L2574,Списки!$A$2:$B$236,2,FALSE),"") | O2574: =IFERROR(VLOOKUP(N2574,'Единицы измерения'!A:B,2,0),"") | U2574: =IFERROR(VLOOKUP(T2574,Соответствие!A:B,2,0),"")
E2575: =IFERROR(VLOOKUP(D2575,'регионы и районы'!B:C,2,0),"") | G2575: {=IFERROR(IF(INDEX('регионы и районы'!L:L,MATCH(1,('регионы и районы'!J:J=D2575)*('регионы и районы'!K:K=F2575),0))=0,"",INDEX('регионы и районы'!L:L,MATCH(1,('регионы и районы'!J:J=D2575)*('регионы и районы'!K:K=F2575),0))),"")} | M2575: =IFERROR(VLOOKUP(L2575,Показатели!G:H,2,0),"") | N2575: =IFERROR(VLOOKUP(Шаблон!L2575,Списки!$A$2:$B$236,2,FALSE),"") | O2575: =IFERROR(VLOOKUP(N2575,'Единицы измерения'!A:B,2,0),"") | U2575: =IFERROR(VLOOKUP(T2575,Соответствие!A:B,2,0),"")
E2576: =IFERROR(VLOOKUP(D2576,'регионы и районы'!B:C,2,0),"") | G2576: {=IFERROR(IF(INDEX('регионы и районы'!L:L,MATCH(1,('регионы и районы'!J:J=D2576)*('регионы и районы'!K:K=F2576),0))=0,"",INDEX('регионы и районы'!L:L,MATCH(1,('регионы и районы'!J:J=D2576)*('регионы и районы'!K:K=F2576),0))),"")} | M2576: =IFERROR(VLOOKUP(L2576,Показатели!G:H,2,0),"") | N2576: =IFERROR(VLOOKUP(Шаблон!L2576,Списки!$A$2:$B$236,2,FALSE),"") | O2576: =IFERROR(VLOOKUP(N2576,'Единицы измерения'!A:B,2,0),"") | U2576: =IFERROR(VLOOKUP(T2576,Соответствие!A:B,2,0),"")
E2577: =IFERROR(VLOOKUP(D2577,'регионы и районы'!B:C,2,0),"") | G2577: {=IFERROR(IF(INDEX('регионы и районы'!L:L,MATCH(1,('регионы и районы'!J:J=D2577)*('регионы и районы'!K:K=F2577),0))=0,"",INDEX('регионы и районы'!L:L,MATCH(1,('регионы и районы'!J:J=D2577)*('регионы и районы'!K:K=F2577),0))),"")} | M2577: =IFERROR(VLOOKUP(L2577,Показатели!G:H,2,0),"") | N2577: =IFERROR(VLOOKUP(Шаблон!L2577,Списки!$A$2:$B$236,2,FALSE),"") | O2577: =IFERROR(VLOOKUP(N2577,'Единицы измерения'!A:B,2,0),"") | U2577: =IFERROR(VLOOKUP(T2577,Соответствие!A:B,2,0),"")
E2578: =IFERROR(VLOOKUP(D2578,'регионы и районы'!B:C,2,0),"") | G2578: {=IFERROR(IF(INDEX('регионы и районы'!L:L,MATCH(1,('регионы и районы'!J:J=D2578)*('регионы и районы'!K:K=F2578),0))=0,"",INDEX('регионы и районы'!L:L,MATCH(1,('регионы и районы'!J:J=D2578)*('регионы и районы'!K:K=F2578),0))),"")} | M2578: =IFERROR(VLOOKUP(L2578,Показатели!G:H,2,0),"") | N2578: =IFERROR(VLOOKUP(Шаблон!L2578,Списки!$A$2:$B$236,2,FALSE),"") | O2578: =IFERROR(VLOOKUP(N2578,'Единицы измерения'!A:B,2,0),"") | U2578: =IFERROR(VLOOKUP(T2578,Соответствие!A:B,2,0),"")
E2579: =IFERROR(VLOOKUP(D2579,'регионы и районы'!B:C,2,0),"") | G2579: {=IFERROR(IF(INDEX('регионы и районы'!L:L,MATCH(1,('регионы и районы'!J:J=D2579)*('регионы и районы'!K:K=F2579),0))=0,"",INDEX('регионы и районы'!L:L,MATCH(1,('регионы и районы'!J:J=D2579)*('регионы и районы'!K:K=F2579),0))),"")} | M2579: =IFERROR(VLOOKUP(L2579,Показатели!G:H,2,0),"") | N2579: =IFERROR(VLOOKUP(Шаблон!L2579,Списки!$A$2:$B$236,2,FALSE),"") | O2579: =IFERROR(VLOOKUP(N2579,'Единицы измерения'!A:B,2,0),"") | U2579: =IFERROR(VLOOKUP(T2579,Соответствие!A:B,2,0),"")
E2580: =IFERROR(VLOOKUP(D2580,'регионы и районы'!B:C,2,0),"") | G2580: {=IFERROR(IF(INDEX('регионы и районы'!L:L,MATCH(1,('регионы и районы'!J:J=D2580)*('регионы и районы'!K:K=F2580),0))=0,"",INDEX('регионы и районы'!L:L,MATCH(1,('регионы и районы'!J:J=D2580)*('регионы и районы'!K:K=F2580),0))),"")} | M2580: =IFERROR(VLOOKUP(L2580,Показатели!G:H,2,0),"") | N2580: =IFERROR(VLOOKUP(Шаблон!L2580,Списки!$A$2:$B$236,2,FALSE),"") | O2580: =IFERROR(VLOOKUP(N2580,'Единицы измерения'!A:B,2,0),"") | U2580: =IFERROR(VLOOKUP(T2580,Соответствие!A:B,2,0),"")
E2581: =IFERROR(VLOOKUP(D2581,'регионы и районы'!B:C,2,0),"") | G2581: {=IFERROR(IF(INDEX('регионы и районы'!L:L,MATCH(1,('регионы и районы'!J:J=D2581)*('регионы и районы'!K:K=F2581),0))=0,"",INDEX('регионы и районы'!L:L,MATCH(1,('регионы и районы'!J:J=D2581)*('регионы и районы'!K:K=F2581),0))),"")} | M2581: =IFERROR(VLOOKUP(L2581,Показатели!G:H,2,0),"") | N2581: =IFERROR(VLOOKUP(Шаблон!L2581,Списки!$A$2:$B$236,2,FALSE),"") | O2581: =IFERROR(VLOOKUP(N2581,'Единицы измерения'!A:B,2,0),"") | U2581: =IFERROR(VLOOKUP(T2581,Соответствие!A:B,2,0),"")
E2582: =IFERROR(VLOOKUP(D2582,'регионы и районы'!B:C,2,0),"") | G2582: {=IFERROR(IF(INDEX('регионы и районы'!L:L,MATCH(1,('регионы и районы'!J:J=D2582)*('регионы и районы'!K:K=F2582),0))=0,"",INDEX('регионы и районы'!L:L,MATCH(1,('регионы и районы'!J:J=D2582)*('регионы и районы'!K:K=F2582),0))),"")} | M2582: =IFERROR(VLOOKUP(L2582,Показатели!G:H,2,0),"") | N2582: =IFERROR(VLOOKUP(Шаблон!L2582,Списки!$A$2:$B$236,2,FALSE),"") | O2582: =IFERROR(VLOOKUP(N2582,'Единицы измерения'!A:B,2,0),"") | U2582: =IFERROR(VLOOKUP(T2582,Соответствие!A:B,2,0),"")
E2583: =IFERROR(VLOOKUP(D2583,'регионы и районы'!B:C,2,0),"") | G2583: {=IFERROR(IF(INDEX('регионы и районы'!L:L,MATCH(1,('регионы и районы'!J:J=D2583)*('регионы и районы'!K:K=F2583),0))=0,"",INDEX('регионы и районы'!L:L,MATCH(1,('регионы и районы'!J:J=D2583)*('регионы и районы'!K:K=F2583),0))),"")} | M2583: =IFERROR(VLOOKUP(L2583,Показатели!G:H,2,0),"") | N2583: =IFERROR(VLOOKUP(Шаблон!L2583,Списки!$A$2:$B$236,2,FALSE),"") | O2583: =IFERROR(VLOOKUP(N2583,'Единицы измерения'!A:B,2,0),"") | U2583: =IFERROR(VLOOKUP(T2583,Соответствие!A:B,2,0),"")
... E2666: =IFERROR(VLOOKUP(D2666,'регионы и районы'!B:C,2,0),"") | G2666: {=IFERROR(IF(INDEX('регионы и районы'!L:L,MATCH(1,('регионы и районы'!J:J=D2666)*('регионы и районы'!K:K=F2666),0))=0,"",INDEX('регионы и районы'!L:L,MATCH(1,('регионы и районы'!J:J=D2666)*('регионы и районы'!K:K=F2666),0))),"")} | M2666: =IFERROR(VLOOKUP(L2666,Показатели!G:H,2,0),"") | N2666: =IFERROR(VLOOKUP(Шаблон!L2666,Списки!$A$2:$B$236,2,FALSE),"") | O2666: =IFERROR(VLOOKUP(N2666,'Единицы измерения'!A:B,2,0),"") | U2666: =IFERROR(VLOOKUP(T2666,Соответствие!A:B,2,0),"")
U2667: =IFERROR(VLOOKUP(T2667,Соответствие!A:B,2,0),"")

Sheet Соответствие
A1: Соответствует | B1: 550e8400-e29b-41d4-a716-446655440000
A2: Не соответствует | B2: 6ba7b810-9dad-11d1-80b4-00c04fd430c8

Sheet регионы и районы
A1: # | B1: region | C1: reg_guid | I1: # | J1: region_name | K1: territory_name | L1: territory_guid
A2: 01 | B2: Республика Адыгея | C2: e31eb222-52ed-11ec-8de8-00505695a409 | I2: 1 | J2: Республика Адыгея | K2: город Майкоп | L2: 14804344-538e-11ec-84d7-00505695a409
A3: 02 | B3: Республика Башкортостан | C3: e3247f2c-52ed-11ec-8de8-00505695a409 | I3: 2 | J3: Республика Адыгея | K3: Кошехабльский муниципальный район | L3: 146bae34-538e-11ec-84d7-00505695a409
A4: 03 | B4: Республика Бурятия | C4: e3274f2c-52ed-11ec-8de8-00505695a409 | I4: 3 | J4: Республика Адыгея | K4: Гиагинский муниципальный район | L4: 1465235c-538e-11ec-84d7-00505695a409
A5: 04 | B5: Республика Алтай | C5: e321b864-52ed-11ec-8de8-00505695a409 | I5: 4 | J5: Республика Адыгея | K5: город Адыгейск | L5: 14839a8a-538e-11ec-84d7-00505695a409
A6: 05 | B6: Республика Дагестан | C6: e32a894e-52ed-11ec-8de8-00505695a409 | I6: 5 | J6: Республика Адыгея | K6: Красногвардейский муниципальный район | L6: 146ee626-538e-11ec-84d7-00505695a409
A7: 06 | B7: Республика Ингушетия | C7: e32d89dc-52ed-11ec-8de8-00505695a409 | I7: 6 | J7: Республика Адыгея | K7: Майкопский муниципальный район | L7: 1471eccc-538e-11ec-84d7-00505695a409
A8: 07 | B8: Кабардино-Балкарская Республика | C8: e2c90d18-52ed-11ec-8de8-00505695a409 | I8: 7 | J8: Республика Адыгея | K8: Теучежский муниципальный район | L8: 1478fe7c-538e-11ec-84d7-00505695a409
A9: 08 | B9: Республика Калмыкия | C9: e3309140-52ed-11ec-8de8-00505695a409 | I9: 8 | J9: Республика Адыгея | K9: Шовгеновский муниципальный район | L9: 147c3e16-538e-11ec-84d7-00505695a409
A10: 09 | B10: Карачаево-Черкесская Республика | C10: e2d4f5d8-52ed-11ec-8de8-00505695a409 | I10: 9 | J10: Республика Адыгея | K10: Тахтамукайский муниципальный район | L10: 147563de-538e-11ec-84d7-00505695a409
A11: 10 | B11: Республика Карелия | C11: e33392aa-52ed-11ec-8de8-00505695a409 | I11: 10 | J11: Республика Башкортостан | K11: город Уфа | L11: 1559428e-538e-11ec-84d7-00505695a409
A12: 11 | B12: Республика Коми | C12: e3367cd6-52ed-11ec-8de8-00505695a409 | I12: 11 | J12: Республика Башкортостан | K12: Аскинский муниципальный район | L12: 1507b61c-538e-11ec-84d7-00505695a409
A13: 12 | B13: Республика Марий Эл | C13: e33c6312-52ed-11ec-8de8-00505695a409 | I13: 12 | J13: Республика Башкортостан | K13: Балтачевский муниципальный район | L13: 157ee5ac-538e-11ec-84d7-00505695a409
... A90: 95 | B90: Херсонская область | C90: 0f6077f8-5117-11ed-83a1-00505695a409 | I90: 89 | J90: Республика Бурятия | K90: Кабанский муниципальный район | L90: 15a6af10-538e-11ec-84d7-00505695a409
I91: 90 | J91: Республика Бурятия | K91: Окинский муниципальный округ | L91: 15bab7c6-538e-11ec-84d7-00505695a409
I92: 91 | J92: Республика Бурятия | K92: Тункинский муниципальный район | L92: 15cc12be-538e-11ec-84d7-00505695a409
I93: 92 | J93: Республика Бурятия | K93: Селенгинский муниципальный район | L93: 15c54bdc-538e-11ec-84d7-00505695a409
I94: 93 | J94: Республика Бурятия | K94: Тарбагатайский муниципальный район | L94: 15c8d068-538e-11ec-84d7-00505695a409
I95: 94 | J95: Республика Бурятия | K95: Северо-Байкальский муниципальный район | L95: 15c1656c-538e-11ec-84d7-00505695a409
I96: 95 | J96: Республика Бурятия | K96: Хоринский муниципальный район | L96: 15cf5280-538e-11ec-84d7-00505695a409
I97: 96 | J97: Республика Алтай | K97: Онгудайский муниципальный район | L97: 148dfa3e-538e-11ec-84d7-00505695a409
I98: 97 | J98: Республика Алтай | K98: Майминский муниципальный район | L98: 148a8b42-538e-11ec-84d7-00505695a409
I99: 98 | J99: Республика Алтай | K99: город Горно-Алтайск | L99: 14aaea54-538e-11ec-84d7-00505695a409
I100: 99 | J100: Республика Алтай | K100: Кош-Агачский муниципальный район | L100: 14870d32-538e-11ec-84d7-00505695a409
I101: 100 | J101: Республика Алтай | K101: Шебалинский муниципальный район | L101: 14a74a2a-538e-11ec-84d7-00505695a409
I102: 101 | J102: Республика Алтай | K102: Чойский муниципальный округ | L102: 14a389f8-538e-11ec-84d7-00505695a409
... I2448: 2447 | J2448: Херсонская область | K2448: Скадовский муниципальный округ | L2448: 27ac19ca-5117-11ed-83a1-00505695a409

Sheet Условия колонок
A1: Колонка | B1: Значение по параметру | C1: Справочник | D1: Обязательность заполнения | E1: Текст ошибки
A2: B | B2: inn | C2: /api/references/water_organization | D2: да
A3: E | B3: regionGUID
A4: G | B4: districtGUID
A5: D | B5: region | D5: да
A6: C | B6: point_code | C6: /api/references/water_utility_points
A7: formTemplateGuid | B7: a21f7aa3-1077-497c-96d8-358085e1fd34 | E7: Данный Excel-шаблон не предназначен для импорта в эту форму. Проверьте правильность шаблона или скачайте его и заполните вновь

Sheet Списки
A1: Показатели | B1: Единицы измерения | C1: Единицы измерения
A2: 1-Метил-N-L-альфа-аспартил-L-фенилаланин15:18 | B2: мг/л | C2: Бк/кг
A3: ДДТ и его метаболиты | B3: мг/дм^3 | C3: балл
A4: Campilobacter | B4: -- | C4: ед. рН
A5: Citrobacter | B5: -- | C5: ЕМФ
A6: Enterobacter | B6: -- | C6: БОЕ/100 см^3
A7: Klebsiella oxytoca | B7: -- | C7: градус цветности
A8: Поллоний-210 | B8: Бк/кг | C8: мг/дм^3
A9: Sr-90 | B9: Бк/кг | C9: мгО2/дм^3
A10: Yersinia pseudotuberculosis (возбудитель псевдотубеокулеза) | B10: -- | C10: КОЕ/100см^3
A11: диЕвропий триоксид | B11: мг/л | C11: КОЕ/дм^3
A12: Дихлорамин | B12: мг/л | C12: градус Цельсия
... A19: 1,2,3,4,5,5-Гексахлорциклопента-1,3-диен | B19: мг/л | C19: Число спор в 20 см^3
A20: 1,2,3-Тригидроксибензол | B20: мг/л
A21: 1,2-Дигидроксибензол | B21: мг/л
A22: 1-Гидрокси-2,4,6-тринитробензол | B22: мг/л
A23: 1-Гидрокси-2,4,6-трихлорбензол | B23: мг/л
A24: 1-Гидрокси-2,6-динитро-2-(1-метилпропил)бензол | B24: мг/л
A25: 1-Гидрокси-2-нитробензол | B25: мг/л
A26: 1-Гидрокси-3-метилбензол | B26: мг/л
A27: 1-Гидрокси-4-метилбензол | B27: мг/л
A28: 1-Гидрокси-4-нитробензол | B28: мг/л
A29: 1-Гидрокси-4-хлорбензол | B29: мг/л
A30: 1-Гидроксидиметилбензол | B30: мг/л
A31: 2,4-Динитрометилбензол | B31: мг/л
... A237: Po-210 | B237: Бк/кг

Sheet Показатели
A1: 1-Метил-N-L-альфа-аспартил-L-фенилаланин15:18 | B1: 17e095e4-74b2-11ec-9a31-00505695a40915 | G1: Барий (Ва, суммарно) | H1: 6f7aaae4-67a9-11ec-9e76-00505695a409
A2: ДДТ и его метаболиты | B2: a319b57e-8646-11eb-9796-0200c6dd82e6 | G2: Серебро (Ag, суммарно) | H2: 6f8af606-67a9-11ec-9e76-00505695a409
A3: Campilobacter | B3: f02bd644-6aa9-11ef-96b7-005056958e11 | G3: Висмут (Bi, суммарно) | H3: 6f99fb9c-67a9-11ec-9e76-00505695a409
A4: Citrobacter | B4: ad5e0b70-8646-11eb-9796-0200c6dd82e6 | G4: Кобальт (Co, суммарно) | H4: 6f9e7640-67a9-11ec-9e76-00505695a409
A5: Enterobacter | B5: ac679560-8646-11eb-9796-0200c6dd82e6 | G5: Литий (Li, суммарно) | H5: 6fa3bc40-67a9-11ec-9e76-00505695a409
A6: Klebsiella oxytoca | B6: 5c29e8e0-6aaa-11ef-96b7-005056958e11 | G6: Олово (Sn, суммарно) | H6: 6fb93dfe-67a9-11ec-9e76-00505695a409
A7: Поллоний-210 | B7: decbdff8-cd1b-11ec-8646-00505695a409 | G7: Стронций (Sr, суммарно) | H7: 6fbf0b80-67a9-11ec-9e76-00505695a409
A8: Sr-90 | B8: bd6f87e6-8646-11eb-9796-0200c6dd82e6 | G8: Аммиак/аммоний-ион (NH3/NH4+) | H8: 6ff92c98-67a9-11ec-9e76-00505695a409
A9: Yersinia pseudotuberculosis (возбудитель псевдотубеокулеза) | B9: 9c5ba99a-8646-11eb-9796-0200c6dd82e6 | G9: РНК полиовирусов (Poliovirus) | H9: 9c5c7582-8646-11eb-9796-0200c6dd82e6
A10: диЕвропий триоксид | B10: ba7393d4-8646-11eb-9796-0200c6dd82e6 | G10: Толуол | H10: b0d7b530-8646-11eb-9796-0200c6dd82e6
A11: Дихлорамин | B11: 44da5890-73f3-11ee-9a41-005056958e11 | G11: Хлориды (Cl- ) | H11: bb1b5308-8646-11eb-9796-0200c6dd82e6
A12: Самарий трихлорид | B12: baa5ff86-8646-11eb-9796-0200c6dd82e6 | G12: Тетрахлорметан | H12: bb2739a2-8646-11eb-9796-0200c6dd82e6
... A225: Нитриты (NO2-) | B225: 03fe5d3a-b1e3-11ed-8d7b-005056958e11 | G225: ДНК Salmonella | H225: a92e8e6c-8646-11eb-9796-0200c6dd82e6
G226: ДНК термофильных Кампилобактерий (Campylobacter spp.) | H226: c831a126-3ef5-11ef-8c43-005056958e11
G227: РНК вируса гепатита А | H227: a30c4e0c-8646-11eb-9796-0200c6dd82e6
G228: Цисты кишечных патогенных простейших организмов | H228: dad9944c-d897-11ee-9b07-005056958e11
G229: Яйца и личинки гельминтов | H229: 9f95a520-8646-11eb-9796-0200c6dd82e6
G230: ДНК Shigella | H230: ab2efdbe-8646-11eb-9796-0200c6dd82e6
G231: Поли(гексаметиленгуанидин гидрохлорид) | H231: 9623299a-8646-11eb-9796-0200c6dd82e6
G232: Po-210 | H232: bd56e7cc-8646-11eb-9796-0200c6dd82e6

Sheet Единицы измерения
A1: г/с | B1: 925eecb8-ed86-11ee-9d4e-005056958e11
A2: КОЕ/1000 см^3 | B2: e0526e62-ea8f-11ee-9a52-005056958e11
A3: КОЕ/20 см^3 | B3: ce3e3b9c-bc32-11ee-88dc-005056958e11
A4: бактерий в 1 дм^3 | B4: 05812b22-bffe-11ee-9149-005056958e11
A5: ед. CISM | B5: 73afdf6e-cc95-11ee-9d18-005056958e11
A6: КОЕ спор/20 см^3 | B6: 8c08bce2-df6f-11ee-851d-005056958e11
A7: мкг на порцию | B7: 3c2ce72a-63b6-11ec-84cc-00505695a409
A8: мг на капсулу | B8: 3babce42-63b6-11ec-84cc-00505695a409
A9: мкг на капсулу | B9: 3c045260-63b6-11ec-84cc-00505695a409
A10: мл 0,02 H р-ра Na2S2O3 | B10: cf61563e-253e-11ee-9b89-005056958e11
A11: грамм на таблетку | B11: dd59eec8-1751-11ed-9154-005056958e11
A12: мг в таблетке | B12: 3bbcf0a0-63b6-11ec-84cc-00505695a409
... A425: экз/мкл | B425: ac03202e-cd6d-11ed-9185-005056958e11
